Workbook
Name __qz6: #REF!
Name __qz6: #REF!
Name __qz6: #REF!
Name __qz6: #REF!
Name __qz6: #REF!
Name __qz6: #REF!
Name __qz6: #REF!
Name _qz6: #REF!
Name _qz6: #REF!
Name _qz6: #REF!
Name _qz6: #REF!
Name _qz6: #REF!
Name _qz6: #REF!
Name a: #REF!
Name a: #REF!
Name a: #REF!
Name a: #REF!
Name a: #REF!
Name a: #REF!
Name a: #REF!
Name a: #REF!
Name a: #REF!
Name a: #REF!
Name a: #REF!
Name ADP_2021: #REF!
Name ADP_2021: #REF!
Name ADP_2021: #REF!
Name ADP_2021: #REF!
Name ADP_2021: #REF!
Name ADP_2021: #REF!
Name ADP_2021: #REF!
Name ADP_2021: #REF!
Name ADP_2122: #REF!
Name ADP_2122: #REF!
Name ADP_2122: #REF!
Name ADP_2122: #REF!
Name ADP_2122: #REF!
Name ADP_2122: #REF!
Name ADP_2122: PHE!$A$5:$AM$331
Name ADP_2122: #REF!
Name ADP_2122: #REF!
Name ADP_2122: #REF!
Name ADP_2122: #REF!
Name ADP_2324: #REF!
Name ADP_2324: #REF!
Name ADP_2324: #REF!
Name ADP_2324: #REF!
Name ADP2017_18: #REF!
Name ADP2017_18: #REF!
Name ADP2017_18: #REF!
Name ADP2017_18: #REF!
Name ADP2017_18: #REF!
Name ADP2017_18: #REF!
Name ADP2017_18: #REF!
Name asaas: #REF!
Name asaas: #REF!
Name asaas: #REF!
Name asaas: #REF!
Name asfaf: #REF!
Name asfaf: #REF!

Sheet Over all Summary
N1: Director I.T (Dev)
A2: SUMMARY
A3: RELEASE POSITION OF PUBLIC SECTOR DEVELOPMENT PROGRAMME
A5: INCLUDING DISTRICT ADP AND FEDERAL GRANTS 2025-26
E6: 27-06-2026
M7: In Billion
A8: DESCRIPTION | B8: No. of Schemes | C8: ALLOCATION 2025-26 | F8: Receipt 2025-26 | G8: FUNDS RELEASED BY FD | L8: % | M8: Balance | N8: Expenditure | O8: % of Edpdr.
C9: Capital | D9: Revenue | E9: Total | G9: Capital | H9: % | I9: Revenue | J9: % | K9: Total
A11: On-Going | B11: 3162 | C11: 278.14712 | D11: 55.095518 | E11: 333.24264 | F11: 0 | G11: 308.15626 | H11: 1.1078895 | I11: 38.518462 | J11: 0.69912151 | K11: 346.67473 | L11: 1.0403072 | M11: -13.43209 | N11: 289.73836 | O11: 0.8357643
A12: New | B12: 480 | C12: 163.02427 | D12: 23.733097 | E12: 186.75736 | F12: 0 | G12: 41.256456 | H12: 0.25306942 | I12: 3.639986 | J12: 0.15337172 | K12: 44.896442 | L12: 0.24039985 | M12: 141.86092 | N12: 40.117284 | O12: 0.89355152
A13: Sub-Total | B13: 3642 | C13: 441.17138 | D13: 78.828615 | E13: 520 | F13: 0 | G13: 349.41272 | H13: 0.7920113 | I13: 42.158448 | J13: 0.53481147 | K13: 391.57117 | L13: 0.75302148 | M13: 128.42883 | N13: 329.85564 | O13: 0.84239002
A15: N-ADP
A17: Funds Released form Over All Saving | C17: 0 | D17: 0 | E17: 0 | H17: 0 | I17: 0 | K17: 0 | L17: Health Department
A18: Releaes Over all Saving | G18: 0 | K18: 0 | N18: 0
A19: Funds Released /N-ADP/OSB | B19: - | C19: 0 | D19: 0 | E19: 0 | F19: 0 | G19: 15.359722 | I19: 0.56224725 | K19: 15.921969 | M19: - | N19: 15.481297 | O19: 0.97232301
A20: SDG'S Schemes | F20: 0 | G20: 29.134218 | I20: 0 | K20: 29.134218 | N20: 28.091197 | O20: 0.96419945
A21: Total Provincial ADP | B21: 3642 | C21: 441.17138 | D21: 78.828615 | E21: 520 | F21: 0 | G21: 393.90666 | H21: 0.89286539 | I21: 42.720695 | J21: 0.541944 | K21: 436.62735 | L21: 0.83966799 | M21: 128.42883 | N21: 373.42814 | O21: 0.85525594
E22: `
A23: District ADP
A24: On-Going * | C24: 35 | D24: 0 | E24: 35 | F24: 0 | G24: 27.499763 | H24: 0.78570751 | I24: 0 | J24: - | K24: 27.499763 | L24: 0.78570751 | M24: 7.500237 | N24: 26.017135 | O24: 0.94608578
A25: New | C25: 20 | E25: 20 | F25: 0 | G25: 12.05265 | H25: 0 | K25: 12.05265 | L25: 0.6026325 | M25: 7.94735 | N25: 10.138052 | O25: 0.84114712
A27: Total District ADP | C27: 55 | E27: 55 | F27: 0 | G27: 39.552413 | H27: 0.71913478 | J27: - | K27: 39.552413 | L27: 0.71913478 | M27: 15.447587 | N27: 36.155187 | O27: 0.91410824
A28: Total (Prov.+Distt.)-A | B28: 3642 | C28: 496.17138 | D28: 78.828615 | E28: 575 | F28: 0 | G28: 433.45907 | H28: 0.87360756 | I28: 42.720695 | J28: 0.541944 | K28: 476.17977 | L28: 0.82813873 | M28: 143.87642 | N28: 409.58332 | O28: 0.86014432
A30: Federal Grant 2025-26 | B30: 11 | C30: 76.582058 | D30: - | E30: 76.582058 | F30: 50.39225 | G30: 24.248061 | H30: 0.31662848 | K30: 24.248061 | L30: 0.31662848 | M30: 52.333997 | N30: 34.988567
A31: Revalidation & Previous Year (Federal Grants) | G31: 26.236851 | K31: 26.236851
A32: Sustainable Dev. Goals Achiement Programme (SAP) (Current Year & Revalidation) | F32: 10.865 | G32: 13.473184 | K32: 13.473184 | N32: 12.366616
A33: Sub Total(FG)- B | C33: 76.582058 | D33: 0 | E33: 76.582058 | F33: 61.25725 | G33: 63.958096 | I33: 0 | K33: 63.958096 | L33: 0.83515771 | M33: 52.333997 | N33: 47.355183 | O33: 0.74040952
A34: Total (A+B) | B34: 3642 | C34: 572.75344 | D34: 78.828615 | E34: 651.58206 | F34: 61.25725 | G34: 497.41717 | H34: 0.86846648 | I34: 42.720695 | J34: 0.541944 | K34: 540.13786 | L34: 0.82896368 | M34: 196.21042 | N34: 456.93851 | O34: 0.84596644
A35: FPA 2025-26 | E35: 366.745 | F35: 265.115 | G35: 228.355 | K35: 228.355 | M35: 138.39 | N35: 265.17
A36: Revalidation (FPA) | E36: 0 | F36: 0 | G36: 121.627 | K36: 121.627 | M36: 0
A37: Total (FPA)-C | E37: 366.745 | F37: 265.115 | G37: 349.982 | H37: 0 | I37: 0 | J37: 0 | K37: 349.982 | L37: 0.95429249 | M37: 138.39 | N37: 265.17 | O37: 0.75766754
A38: Grand Total (A+B+C) | B38: 3642 | C38: 572.75344 | D38: 78.828615 | E38: 1018.3271 | F38: 326.37225 | G38: 847.39917 | H38: 1.4795182 | I38: 42.720695 | J38: 0.541944 | K38: 890.11986 | L38: 0.87410018 | M38: 334.60042 | N38: 722.10851 | O38: 0.81124862
B39: *. Note:- Out of 1945, New Scheme Funds of 314, released upto 11-08-2023.
A40: *** Expenditure updated on Acutal Expenditure on 24-02-2026

Sheet Sector Wise Summary
A1: S U M M A R Y
A2: PUBLIC SECTOR DEVELOPMENT PROGRAMME 2025-26
R4: Rs in Million
A5: S.No | B5: Sector / Name of Department | C5: Throwfor-ward as on 01.07.24 | D5: On-Going | H5: N e w | L5: TOTAL | R5: %age of Expenditure | T5: Estimated Expenditure | U5: Throwfarward 2026-27
D6: No. | E6: Capital | F6: Revenue | G6: Total | H6: No. | I6: Capital | J6: Revenue | K6: Total | L6: No. | M6: Allocation | N6: Modify Budget | O6: Release | P6: % of Release | Q6: Expenditure | R6: Against Allocation | S6: Against Release
A7: 1 | B7: 2 | C7: 3 | D7: 4 | E7: 5 | F7: 6 | G7: 7 | H7: 8 | I7: 9 | J7: 10 | K7: 11 | L7: 16 | M7: 17 | N7: 18 | O7: 19 | P7: 20 | Q7: 21 | R7: 22 | S7: 23 | T7: 24 | U7: 25
A9: A. | B9: PROVINCIAL PROGRAMME
A11: 1 | B11: AGRICULTURE, SUPPLY & PRICES | C11: 17370.448 | D11: 35 | E11: 160.339 | F11: 5867.197 | G11: 6027.536 | H11: 8 | I11: 198.464 | J11: 1309 | K11: 1507.464 | L11: 43 | M11: 7535 | N11: 7367.939 | O11: 4681.5262 | P11: 0.63539156 | Q11: 4159.4613 | R11: 0.56453525 | S11: 0.88848402 | T11: 4681.5262 | U11: 12688.922
A13: 2 | B13: AUQAF, R.A. ZAKAT & USHR | C13: 775.66975 | D13: 30 | E13: 501.6 | F13: 0 | G13: 501.6 | H13: 5 | I13: 125.4 | J13: 0 | K13: 125.4 | L13: 35 | M13: 627 | N13: 627 | O13: 447.567 | P13: 0.71382297 | Q13: 313.96951 | R13: 0.50074883 | S13: 0.70150282 | T13: 447.567 | U13: 328.10275
A15: 3 | B15: BOARD OF REVENUE | C15: 949.376 | D15: 1 | E15: 50.773 | F15: 0 | G15: 50.773 | H15: 1 | I15: 0 | J15: 270.227 | K15: 270.227 | L15: 2 | M15: 321 | N15: 321 | O15: 0 | P15: 0 | Q15: 0 | R15: 0 | S15: #DIV/0! | T15: 0 | U15: 949.376
A17: 4 | B17: CULTURE, TOUR:, ANTIQ: & ARCH | C17: 9402.6797 | D17: 44 | E17: 1940.804 | F17: 123.996 | G17: 2064.8 | H17: 2 | I17: 516.2 | J17: 0 | K17: 516.2 | L17: 46 | M17: 2581 | N17: 2581 | O17: 1971.0485 | P17: 0.76367629 | Q17: 1861.2428 | R17: 0.72113241 | S17: 0.9442907 | T17: 1971.0485 | U17: 7431.6312
A19: 5 | B19: EDUCATION SECTOR | C19: 104388.42 | D19: 676 | E19: 27675.837 | F19: 5629.982 | G19: 33305.819 | H19: 43 | I19: 4729.181 | J19: 170 | K19: 4899.181 | L19: 719 | M19: 38205 | N19: 38432.5 | O19: 26748.933 | P19: 0.69599774 | Q19: 24514.109 | R19: 0.63784842 | S19: 0.91645185 | T19: 26748.933 | U19: 77639.486
B20: (i) School Education | C20: 49678.465 | D20: 443 | E20: 13335.811 | F20: 2460.189 | G20: 15796 | H20: 8 | I20: 2024 | J20: 0 | K20: 2024 | L20: 451 | M20: 17820 | N20: 17867.673 | O20: 13403.087 | P20: 0.75013052 | Q20: 12853.606 | R20: 0.71937775 | S20: 0.95900345 | T20: 13403.087 | U20: 36275.378
B21: (ii) College Education | C21: 17386.829 | D21: 95 | E21: 5088.306 | F21: 596.694 | G21: 5685 | H21: 17 | I21: 1301 | J21: 120 | K21: 1421 | L21: 112 | M21: 7106 | N21: 7122.757 | O21: 4945.2585 | P21: 0.69428994 | Q21: 4087.5973 | R21: 0.57387853 | S21: 0.82656899 | T21: 4945.2585 | U21: 12441.57
B22: (iii) Emp. of Persons with Disabilities | C22: 10252.473 | D22: 54 | E22: 2565.804 | F22: 692.015 | G22: 3257.819 | H22: 17 | I22: 1154.181 | J22: 0 | K22: 1154.181 | L22: 71 | M22: 4412 | N22: 4575.07 | O22: 3070.7305 | P22: 0.67118765 | Q22: 2849.6275 | R22: 0.62285987 | S22: 0.92799662 | T22: 3070.7305 | U22: 7181.7427
B23: (iv) STEVTA | C23: 5403.6555 | D23: 44 | E23: 1535.515 | F23: 84.485 | G23: 1620 | H23: 0 | I23: 0 | J23: 0 | K23: 0 | L23: 44 | M23: 1620 | N23: 1620 | O23: 1161.361 | P23: 0.71688951 | Q23: 798.6884 | R23: 0.49301753 | S23: 0.6877176 | T23: 1161.361 | U23: 4242.2945
B24: (v) Universities & Boards | C24: 21666.997 | D24: 40 | E24: 5150.401 | F24: 1796.599 | G24: 6947 | H24: 1 | I24: 250 | J24: 50 | K24: 300 | L24: 41 | M24: 7247 | N24: 7247 | O24: 4168.4965 | P24: 0.57520305 | Q24: 3924.5897 | R24: 0.54154681 | S24: 0.94148807 | T24: 4168.4965 | U24: 17498.5
A26: 6 | B26: ENERGY | C26: 2875.145 | D26: 8 | E26: 1309.148 | F26: 529.859 | G26: 1839.007 | H26: 4 | I26: 0 | J26: 459.993 | K26: 459.993 | L26: 12 | M26: 2299 | N26: 2279.595 | O26: 1232.6005 | P26: 0.5407103 | Q26: 873.57755 | R26: 0.38321612 | S26: 0.70872724 | T26: 1232.6005 | U26: 1642.5445
A28: 7 | B28: ENVIRONMENT, C. C. & C.D. | C28: 2617.522 | D28: 15 | E28: 874.926 | F28: 52.074 | G28: 927 | H28: 2 | I28: 79.5 | J28: 75.5 | K28: 155 | L28: 17 | M28: 1082 | N28: 1243.193 | O28: 984.4015 | P28: 0.79183321 | Q28: 930.45663 | R28: 0.74844101 | S28: 0.94520034 | T28: 984.4015 | U28: 1633.1205
A30: 8 | B30: EXCISE & TAXATION | C30: 432.2 | D30: 7 | E30: 77.347 | F30: 48.653 | G30: 126 | H30: 0 | I30: 0 | J30: 0 | K30: 0 | L30: 7 | M30: 126 | N30: 126 | O30: 114.35575 | P30: 0.90758532 | Q30: 98.344941 | R30: 0.7805154 | S30: 0.85999122 | T30: 114.35575 | U30: 317.84425
A32: 9 | B32: FINANCE | C32: 5540.599 | D32: 7 | E32: 130.619 | F32: 1552.381 | G32: 1683 | H32: 1 | I32: 50 | J32: 0 | K32: 50 | L32: 8 | M32: 1733 | N32: 1733 | O32: 516.81075 | P32: 0.2982174 | Q32: 310.97531 | R32: 0.17944334 | S32: 0.60171989 | T32: 516.81075 | U32: 5023.7882
A34: 10 | B34: FOOD | C34: 638.788 | D34: 3 | E34: 316 | F34: 0 | G34: 316 | H34: 0 | I34: 0 | J34: 0 | K34: 0 | L34: 3 | M34: 316 | N34: 316 | O34: 78.99975 | P34: 0.24999921 | Q34: 0 | R34: 0 | S34: 0 | T34: 78.99975 | U34: 559.78825
A36: 11 | B36: FOREST & WILDLIFE | C36: 3981.13 | D36: 3 | E36: 225 | F36: 1545.4 | G36: 1770.4 | H36: 4 | I36: 0 | J36: 442.6 | K36: 442.6 | L36: 7 | M36: 2213 | N36: 2213 | O36: 1530.04 | P36: 0.69138726 | Q36: 1448.1233 | R36: 0.65437113 | S36: 0.94646108 | T36: 1530.04 | U36: 2451.09
A38: 12 | B38: GOVERNOR'S SECRETARIAT | C38: 390 | D38: 1 | E38: 390 | F38: 0 | G38: 390 | H38: 0 | I38: 0 | J38: 0 | K38: 0 | L38: 1 | M38: 390 | N38: 389.653 | O38: 389.653 | P38: 1 | Q38: 358.58222 | R38: 0.9202604 | S38: 0.9202604 | T38: 389.653 | U38: 0.347
A40: 13 | B40: HEALTH | C40: 45735.597 | D40: 140 | E40: 6780.422 | F40: 10273.914 | G40: 17054.336 | H40: 38 | I40: 3638.664 | J40: 625 | K40: 4263.664 | L40: 178 | M40: 21318 | N40: 25588.175 | O40: 17117.823 | P40: 0.66897398 | Q40: 14258.844 | R40: 0.55724349 | S40: 0.8329823 | T40: 17117.823 | U40: 28617.774
A42: 14 | B42: HOME | C42: 30530.085 | D42: 88 | E42: 8430.896 | F42: 684.104 | G42: 9115 | H42: 19 | I42: 960 | J42: 3290 | K42: 4250 | L42: 107 | M42: 13365 | N42: 13438.916 | O42: 7284.5267 | P42: 0.5420472 | Q42: 5705.5411 | R42: 0.42455367 | S42: 0.78324115 | T42: 7284.5267 | U42: 23245.558
A44: 15 | B44: HUMAN RIGHTS | C44: 271.206 | D44: 2 | E44: 0 | F44: 79 | G44: 79 | H44: 1 | I44: 45 | J44: 0 | K44: 45 | L44: 3 | M44: 124 | N44: 124 | O44: 16.386 | P44: 0.13214516 | Q44: 10.758542 | R44: 0.086762435 | S44: 0.65656914 | T44: 16.386 | U44: 254.82
A46: 16 | B46: HUMAN SETTLEMENT, SD&SH | C46: 217 | D46: 0 | E46: 0 | F46: 0 | G46: 0 | H46: 6 | I46: 108 | J46: 0 | K46: 108 | L46: 6 | M46: 108 | N46: 108 | O46: 108 | P46: 1 | Q46: 107.81294 | R46: 0.99826801 | S46: 0.99826801 | T46: 108 | U46: 109
A48: 17 | B48: INDUSTRIES & COMMERCE | C48: 4463.5664 | D48: 15 | E48: 1298.498 | F48: 1 | G48: 1299.498 | H48: 8 | I48: 323.502 | J48: 0 | K48: 323.502 | L48: 23 | M48: 1623 | N48: 1623 | O48: 1380.4625 | P48: 0.85056223 | Q48: 1286.5518 | R48: 0.7926998 | S48: 0.93197155 | T48: 1380.4625 | U48: 3083.1039
... A70: 28 | B70: MINORITIES AFFAIRS | C70: 1879.7312 | D70: 56 | E70: 1225 | F70: 0 | G70: 1225 | H70: 24 | I70: 215 | J70: 0 | K70: 215 | L70: 80 | M70: 1440 | N70: 1438.507 | O70: 1255.414 | P70: 0.87272012 | Q70: 1229.6511 | R70: 0.85481062 | S70: 0.97947853 | T70: 1255.414 | U70: 624.31725
A72: 29 | B72: NEW DEVELOPMENT INITIATIVES | C72: 15000 | D72: 0 | E72: 0 | F72: 0 | G72: 0 | H72: 1 | I72: 15000 | J72: 0 | K72: 15000 | L72: 1 | M72: 15000 | N72: 409.899 | O72: 0 | P72: 0 | Q72: 0 | R72: 0 | S72: #DIV/0! | T72: 0 | U72: 15000
A74: 30 | B74: PLANNING & DEVELOPMENT | C74: 28181.354 | D74: 21 | E74: 7588.836 | F74: 3960.664 | G74: 11549.5 | H74: 5 | I74: 810 | J74: 358.5 | K74: 1168.5 | L74: 26 | M74: 12718 | N74: 12682.241 | O74: 8061.0325 | P74: 0.63561579 | Q74: 6788.219 | R74: 0.53525391 | S74: 0.84210291 | T74: 8061.0325 | U74: 20120.321
A76: 31 | B76: POPULATION WELFARE | C76: 1529.383 | D76: 2 | E76: 18.772 | F76: 235.628 | G76: 254.4 | H76: 1 | I76: 63.6 | J76: 0 | K76: 63.6 | L76: 3 | M76: 318 | N76: 318 | O76: 66.207 | P76: 0.20819811 | Q76: 60.475588 | R76: 0.19017481 | S76: 0.91343193 | T76: 66.207 | U76: 1463.176
A78: 32 | B78: PROVINCIAL ASSEMBLY | C78: 110 | D78: 1 | E78: 110 | F78: 0 | G78: 110 | H78: 0 | I78: 0 | J78: 0 | K78: 0 | L78: 1 | M78: 110 | N78: 110 | O78: 110 | P78: 1 | Q78: 109.88346 | R78: 0.99894054 | S78: 0.99894054 | T78: 110 | U78: 0
A80: 33 | B80: PROVINCIAL OMBUDSMAN | C80: 139.159 | D80: 3 | E80: 51.159 | F80: 0 | G80: 51.159 | H80: 1 | I80: 63.841 | J80: 0 | K80: 63.841 | L80: 4 | M80: 115 | N80: 115 | O80: 0 | P80: 0 | Q80: 0 | R80: 0 | S80: #DIV/0! | T80: 0 | U80: 139.159
A82: 34 | B82: PUBLIC HEALTH ENGG: & RD | C82: 53873.322 | D82: 289 | E82: 17103.773 | F82: 383.276 | G82: 17487.049 | H82: 66 | I82: 9387.951 | J82: 248 | K82: 9635.951 | L82: 355 | M82: 27123 | N82: 27330.651 | O82: 21166.264 | P82: 0.77445149 | Q82: 19407.761 | R82: 0.7101097 | S82: 0.91691954 | T82: 21166.264 | U82: 32707.059
B83: (i) Public Health Engineering | C83: 49395.938 | D83: 250 | E83: 15642.09 | F83: 382.976 | G83: 16025.066 | H83: 43 | I83: 8638.934 | J83: 0 | K83: 8638.934 | L83: 293 | M83: 24664 | N83: 24856.518 | O83: 19651.81 | P83: 0.79060991 | Q83: 18042.783 | R83: 0.72587732 | S83: 0.91812322 | T83: 19651.81 | U83: 29744.128
B84: (ii) Rural Development | C84: 4477.3843 | D84: 39 | E84: 1461.683 | F84: 0.3 | G84: 1461.983 | H84: 23 | I84: 749.017 | J84: 248 | K84: 997.017 | L84: 62 | M84: 2459 | N84: 2474.133 | O84: 1514.4538 | P84: 0.61211493 | Q84: 1364.9777 | R84: 0.55169941 | S84: 0.90130036 | T84: 1514.4538 | U84: 2962.9305
A86: 35 | B86: REHABILITATION (PDMA) | C86: 1505.185 | D86: 3 | E86: 396 | F86: 241 | G86: 637 | H86: 0 | I86: 0 | J86: 0 | K86: 0 | L86: 3 | M86: 637 | N86: 1014.54 | O86: 812.54 | P86: 0.80089499 | Q86: 793.08777 | R86: 0.78172154 | S86: 0.97605997 | T86: 812.54 | U86: 692.645
A88: 36 | B88: REHAB: & RECONSTT. OF FLOOD DAMAGED INFRASTRUCTURE | C88: 12000 | D88: 0 | E88: 0 | F88: 0 | G88: 0 | H88: 1 | I88: 12000 | J88: 0 | K88: 12000 | L88: 1 | M88: 12000 | N88: 5102.9615 | O88: 0 | P88: 0 | Q88: 0 | R88: 0 | S88: #DIV/0! | T88: 0 | U88: 12000
...

Sheet Agri
A1: PROVINCIAL
A2: AGRICULTURE, SUPPLY & PRICES DEPARTMENT
AK3: Rs in Million
A4: Gen. Sr. No. | B4: UID | C4: Sector / Sub-sector / Name of Scheme | D4: Location of Scheme/ District | E4: Status Date of Approval | F4: Target Date for Comple- tion | G4: Estimated Cost | H4: Actual Exp: upto June, 24 | I4: Revised Allocation 2024-25 | K4: Estimated Expendit-ure upto June' 25 | L4: Throw for- ward as on 01-07-25 | M4: Allocation for 2025-26 | P4: Re-Appropration 2025-26 | T4: Out Side Budget | V4: Overall Saving | X4: Surrender | Z4: Modify Budget 2025-26 | AC4: Release 2025-26 | AF4: Expenditure | AI4: Assignment Account | AJ4: Remarks | AK4: Date of Releases | AL4: Status | AM4: FPA
P5: Capital | Q5: Capital | R5: Revenue | S5: Revenue
I6: Total | J6: F.P.A. | M6: Capital | N6: Revenue | O6: Total | P6: Addition | Q6: Deduction | R6: Addition | S6: Deduction | T6: Capital | U6: Revenue | V6: Capital | W6: Revenue | X6: Capital | Y6: Revenue | Z6: Capital | AA6: Revenue | AB6: Total | AC6: Capital | AD6: Revenue | AE6: Total | AF6: Capital | AG6: Revenue | AH6: Total
A7: 1 | B7: 2 | C7: 3 | D7: 4 | E7: 5 | F7: 6 | G7: 7 | H7: 8 | I7: 9 | J7: 10 | K7: 11 | L7: 12 | M7: 13 | N7: 14 | O7: 15 | P7: 16 | Q7: 17 | R7: 18 | S7: 19 | T7: 20 | U7: 21 | V7: 22 | W7: 23 | X7: 24 | Y7: 25 | Z7: 10 | AA7: 11 | AB7: 12 | AC7: 9 | AD7: 10 | AE7: 11 | AF7: 12 | AG7: 13 | AH7: 14 | AI7: 15 | AJ7: 15 | AK7: 16 | AL7: 17 | AM7: 16
C9: Agriculture Research
C10: (On-Going Schemes)
A12: 1 | B12: AGRAR-PP-22-0001 | C12: Bio Saline Agriculture Research & Development Phase-II | D12: Tharparkar, Umerkot & Khairpur | E12: Approved 05.10.22 | F12: June-26 | G12: 199.997 | H12: 90.2 | I12: 20 | J12: 0 | K12: 110.2 | L12: 89.797 | M12: 0 | N12: 89.797 | O12: 89.797 | Z12: 0 | AA12: 89.797 | AB12: 89.797 | AD12: 41.947 | AE12: 41.947 | AF12: 0 | AG12: 34.387657 | AH12: 34.387657 | AK12: R: 29-07-2025 | AL12: 0.5 | AM12: 0
A13: 2 | B13: AGRAR-PP-22-0002 | C13: Upgradation of Horticulture Research Center at Mirpurkhas (Capital: Rs. 155.828 M Revenue: Rs. 199.683 M) | D13: Mirpurkhas | E13: Approved 05.01.23 | F13: June-26 | G13: 355.511 | H13: 93.75 | I13: 50.211 | J13: 0 | K13: 143.961 | L13: 211.55 | M13: 38.1 | N13: 61.9 | O13: 100 | Z13: 38.1 | AA13: 61.9 | AB13: 100 | AC13: 19.05 | AD13: 61.9 | AE13: 80.95 | AF13: 18.502597 | AG13: 54.653694 | AH13: 73.156291 | AK13: Cap: 07-07-2025 & R: 30-07-2025 cap: & 31-12-2025 & 21-01-2026 R: 30-03-2026 | AL13: 0.25 | AM13: 0
A14: 3 | B14: AGRAR-PP-22-0003 | C14: Development of Rice under Phytotron Technology. | D14: Larkano | E14: Approved 05.01.23 | F14: June-26 | G14: 220 | H14: 75 | I14: 20 | J14: 0 | K14: 95 | L14: 125 | M14: 0 | N14: 125 | O14: 125 | Z14: 0 | AA14: 125 | AB14: 125 | AD14: 110.754 | AE14: 110.754 | AF14: 0 | AG14: 100.67439 | AH14: 100.67439 | AK14: R: 29-07-2025 & 20-11-2025 | AL14: 0.5 | AM14: 0
A15: 4 | B15: AGRAR-PP-23-0002 | C15: Varietal Development of Wheat through Speed Breeding. | D15: S.B.A & Hyderabad | E15: Approved 08.03.24 | F15: June-26 | G15: 100 | H15: 0 | I15: 37.5 | J15: 0 | K15: 37.5 | L15: 62.5 | M15: 0 | N15: 62.5 | O15: 62.5 | Z15: 0 | AA15: 62.5 | AB15: 62.5 | AD15: 61 | AE15: 61 | AF15: 0 | AG15: 58.781158 | AH15: 58.781158 | AK15: R: 08-08-2025 & 06-01-2026 | AL15: 0.5 | AM15: 0
A16: 5 | B16: AGRAR-PP-23-0001 | C16: Integrated Management of Panama Wilt (Fusarium oxysporum f. sp. cubense) Disease of Banana in Sindh. | D16: Hyderabad | E16: Approved 08.03.24 | F16: June-26 | G16: 149.835 | H16: 0 | I16: 10 | J16: 0 | K16: 10 | L16: 139.835 | M16: 0 | N16: 139.835 | O16: 139.835 | Z16: 0 | AA16: 139.835 | AB16: 139.835 | AD16: 139.835 | AE16: 139.835 | AF16: 0 | AG16: 132.95983 | AH16: 132.95983 | AK16: R: 05-08-2025 & 21-01-2026 | AL16: 0.5 | AM16: 0
C17: Total Agriculture Research :- | G17: 1025.343 | H17: 258.95 | I17: 137.711 | J17: 0 | K17: 396.661 | L17: 628.682 | M17: 38.1 | N17: 479.032 | O17: 517.132 | P17: 0 | Q17: 0 | R17: 0 | S17: 0 | T17: 0 | U17: 0 | V17: 0 | W17: 0 | X17: 0 | Y17: 0 | Z17: 38.1 | AA17: 479.032 | AB17: 517.132 | AC17: 19.05 | AD17: 415.436 | AE17: 434.486 | AF17: 18.502597 | AG17: 381.45673 | AH17: 399.95933 | AI17: 0 | AM17: 0
C19: (New Schemes)
A21: 6 | B21: AGRAR-PP-25-0001 | C21: Sindh Agriculture Biosaline, Rehabilitation & Resilient Initiative. (SABRRI) | D21: N.Feroze, Ghotki, Shikarpur, Larkano & Jacobabad | E21: Un-Approved | F21: June-27 | G21: 100 | H21: 0 | I21: 0 | J21: 0 | K21: 0 | L21: 100 | M21: 0 | N21: 50 | O21: 50 | Z21: 0 | AA21: 50 | AB21: 50 | AD21: 50 | AE21: 50 | AF21: 0 | AG21: 46.085261 | AH21: 46.085261 | AK21: R: 05-01-2026 & 21-04-2026 & 11-05-2026 & 21-05-2026 | AL21: 0.25 | AM21: 0
A22: 7 | B22: AGRAR-PP-25-0002 | C22: Production of Early Category Seed of Climate-Resilient Crop in Sindh for Enhanced Food Security and Sustainability. | D22: Ghotki & S.B.A | E22: Un-Approved | F22: June-27 | G22: 50 | H22: 0 | I22: 0 | J22: 0 | K22: 0 | L22: 50 | M22: 0 | N22: 25 | O22: 25 | Z22: 0 | AA22: 25 | AB22: 25 | AD22: 24.7 | AE22: 24.7 | AF22: 0 | AG22: 23.291565 | AH22: 23.291565 | AK22: R: 05-01-2026 & 21-04-2026 & 11-05-2026 & 20-05-2026 | AL22: 0.25 | AM22: 0
C23: Total Agri. Research (New Schemes) | G23: 150 | H23: 0 | I23: 0 | J23: 0 | K23: 0 | L23: 150 | M23: 0 | N23: 75 | O23: 75 | P23: 0 | Q23: 0 | R23: 0 | S23: 0 | T23: 0 | U23: 0 | V23: 0 | W23: 0 | X23: 0 | Y23: 0 | Z23: 0 | AA23: 75 | AB23: 75 | AC23: 0 | AD23: 74.7 | AE23: 74.7 | AF23: 0 | AG23: 69.376826 | AH23: 69.376826 | AI23: 0 | AM23: 0
C24: Total Agri. Research :- | G24: 1175.343 | H24: 258.95 | I24: 137.711 | J24: 0 | K24: 396.661 | L24: 778.682 | M24: 38.1 | N24: 554.032 | O24: 592.132 | P24: 0 | Q24: 0 | R24: 0 | S24: 0 | T24: 0 | U24: 0 | V24: 0 | W24: 0 | X24: 0 | Y24: 0 | Z24: 38.1 | AA24: 554.032 | AB24: 592.132 | AC24: 19.05 | AD24: 490.136 | AE24: 509.186 | AF24: 18.502597 | AG24: 450.83356 | AH24: 469.33615 | AI24: 0 | AM24: 0
C26: Agriculture Extension
C27: (On-Going Schemes)
A29: 8 | B29: AGRAE-PP-16-0003 | C29: Construction of Additional Building Components of ATI, Jacobabad | D29: Jacobabad | E29: Approved 30.06.16 (U/R) | F29: June-26 | G29: 99.939 | H29: 99.939 | I29: 0 | J29: 0 | K29: 99.939 | L29: 0 | M29: 0.1 | N29: 0 | O29: 0.1 | Z29: 0.1 | AA29: 0 | AB29: 0.1 | AE29: 0 | AF29: 0 | AG29: 0 | AH29: 0 | AJ29: U/R Un-Satisfactory | AL29: 0.25 | AM29: 0
A30: 9 | B30: AGRAE-PP-17-0002 | C30: Construction/ Rehabilitation of Agriculture Extension Offices in Sindh. | D30: Sindh | E30: Approved 12.01.18 | F30: June-26 | G30: 439.149 | H30: 252.045 | I30: 9.355 | J30: 0 | K30: 261.4 | L30: 177.749 | M30: 60.094 | N30: 0 | O30: 60.094 | Z30: 60.094 | AA30: 0 | AB30: 60.094 | AE30: 0 | AF30: 0 | AG30: 0 | AH30: 0 | AJ30: Un-Satisfactory on letter dated 06-11-2025 | AL30: 0.25 | AM30: 0
A31: 10 | B31: AGRAE-PP-21-0006 | C31: Implementation of Grow More Cotton and Pulses Campaign in Sindh. | D31: Sindh | E31: Approved 01.11.21 | F31: June-26 | G31: 75 | H31: 12.852 | I31: 23.307 | J31: 0 | K31: 36.159 | L31: 38.841 | M31: 0 | N31: 31.084 | O31: 31.084 | Z31: 0 | AA31: 31.084 | AB31: 31.084 | AD31: 15.542 | AE31: 15.542 | AF31: 0 | AG31: 15.43765 | AH31: 15.43765 | AK31: R: 02-02-2026 & 21-04-2026 | AL31: 0.25 | AM31: 0
A32: 11 | B32: AGRAE-PP-21-0007 | C32: Rehabilitation of Existing Buildings of Agriculture Extension in District Kashmore. | D32: Kashmore | E32: Approved 08.11.21 | F32: June-26 | G32: 100 | H32: 19.291 | I32: 10.089 | J32: 0 | K32: 29.38 | L32: 70.62 | M32: 40.355 | N32: 0 | O32: 40.355 | Z32: 40.355 | AA32: 0 | AB32: 40.355 | AC32: 20.17775 | AE32: 20.17775 | AF32: 9.96271 | AG32: 0 | AH32: 9.96271 | AK32: Cap: 07-07-2025 & 04-03-2026 | AL32: 0.25 | AM32: 0
A33: 12 | B33: AGRAE-PP-23-0003 | C33: Construction of Office of the Directorate of Agriculture Extension, Sukkur Division (Revised) | D33: Sukkur | E33: Approved 31.10.16 | F33: June-26 | G33: 224.833 | H33: 61.879 | I33: 131.928 | J33: 0 | K33: 193.807 | L33: 31.026 | M33: 0 | N33: 31.026 | O33: 31.026 | Z33: 0 | AA33: 31.026 | AB33: 31.026 | AD33: 31.026 | AE33: 31.026 | AF33: 0 | AG33: 0 | AH33: 0 | AK33: R: 10-09-2025 | AL33: 1 | AM33: 0
A34: 13 | B34: AGRWM-FP-21-0021 | C34: Sindh Water & Agriculture Transformation (SWAT) Project (Component III: Agriculture) (Total: Rs. 14,228.720 M World Bank's Share: Rs. 11,926.500 M GoS Share: Rs. 2,302.22 M) | D34: Sindh | E34: Approved 06.12.22 ECNEC | F34: June-28 | G34: 2302 | H34: 0 | I34: 50 | J34: 0 | K34: 50 | L34: 2252 | M34: 0 | N34: 400 | O34: 400 | Z34: 0 | AA34: 400 | AB34: 400 | AD34: 216.225 | AE34: 216.225 | AF34: 0 | AG34: 85.464992 | AH34: 85.464992 | AK34: R: 25-08-2225 & 10-09-2025 & 18-11-2025 & 16-02-2026 7 05-05-2026 & R: 30-05-2026 | AL34: 0.25 | AM34: 3500
A35: 14 | B35: AGRAE-PP-22-0004 | C35: Integrated Pest Management of Cotton Crop in Sindh. | D35: Sindh | E35: Approved 30.01.23 | F35: June-26 | G35: 95.93 | H35: 11.881 | I35: 21.012 | J35: 0 | K35: 32.893 | L35: 63.037 | M35: 0 | N35: 63.037 | O35: 63.037 | Z35: 0 | AA35: 63.037 | AB35: 63.037 | AD35: 63.037 | AE35: 63.037 | AF35: 0 | AG35: 56.35894 | AH35: 56.35894 | AK35: R: 08-08-2025 & 13-11-2025 | AL35: 0.5 | AM35: 0
A36: 15 | B36: AGRWM-PP-21-0017 | C36: Transforming the Indus Basin with Climate Resilient Agriculture and Water Management (Total: Rs. 3,444.43 M GCF's Share: Rs. 2618.65 M GoS' Share: Rs. 825.784 M) | D36: Badin, Sanghar & Umerkot | E36: Approved 29.10.21 | F36: June-26 | G36: 825.784 | H36: 203.268 | I36: 306.01 | J36: 0 | K36: 509.278 | L36: 316.506 | M36: 0 | N36: 316.506 | O36: 316.506 | Z36: 0 | AA36: 316.506 | AB36: 316.506 | AE36: 0 | AF36: 0 | AG36: 0 | AH36: 0 | AJ36: Un-Satisfactory | AL36: 0.5 | AM36: 0
C37: Total Agri: Extension (On Going) | G37: 4162.635 | H37: 661.155 | I37: 551.701 | J37: 0 | K37: 1212.856 | L37: 2949.779 | M37: 100.549 | N37: 841.653 | O37: 942.202 | P37: 0 | Q37: 0 | R37: 0 | S37: 0 | T37: 0 | U37: 0 | V37: 0 | W37: 0 | X37: 0 | Y37: 0 | Z37: 100.549 | AA37: 841.653 | AB37: 942.202 | AC37: 20.17775 | AD37: 325.83 | AE37: 346.00775 | AF37: 9.96271 | AG37: 157.26158 | AH37: 167.22429 | AI37: 0 | AM37: 3500
C38: Agri: Extension
C39: (New Schemes)
A41: 16 | B41: AGRAE-PP-25-0001 | C41: Providing Essential Laboratory Equipments and Analytical Material to Pesticide and Fertilizer Quality Control and Testing Laboratories. | D41: Ghotki & Larkana | E41: Un-Approved | F41: June-27 | G41: 200 | H41: 0 | I41: 0 | J41: 0 | K41: 0 | L41: 200 | M41: 0 | N41: 100 | O41: 100 | Z41: 0 | AA41: 100 | AB41: 100 | AE41: 0 | AF41: 0 | AG41: 0 | AH41: 0 | AJ41: Un-Approved | AL41: 0.25 | AM41: 0
C42: Total Agri: Extension (New Schemes) | G42: 200 | H42: 0 | I42: 0 | J42: 0 | K42: 0 | L42: 200 | M42: 0 | N42: 100 | O42: 100 | P42: 0 | Q42: 0 | R42: 0 | S42: 0 | T42: 0 | U42: 0 | V42: 0 | W42: 0 | X42: 0 | Y42: 0 | Z42: 0 | AA42: 100 | AB42: 100 | AC42: 0 | AD42: 0 | AE42: 0 | AF42: 0 | AG42: 0 | AH42: 0 | AI42: 0 | AM42: 0
C43: Total Agri: Extension :- | G43: 4362.635 | H43: 661.155 | I43: 551.701 | J43: 0 | K43: 1212.856 | L43: 3149.779 | M43: 100.549 | N43: 941.653 | O43: 1042.202 | P43: 0 | Q43: 0 | R43: 0 | S43: 0 | T43: 0 | U43: 0 | V43: 0 | W43: 0 | X43: 0 | Y43: 0 | Z43: 100.549 | AA43: 941.653 | AB43: 1042.202 | AC43: 20.17775 | AD43: 325.83 | AE43: 346.00775 | AF43: 9.96271 | AG43: 157.26158 | AH43: 167.22429 | AI43: 0 | AM43: 3500
C45: Agriculture Marketing
C46: (Ongoing Scheme)
A48: 17 | B48: AGRAK-PP-14-0016 | C48: Construction of Mirch Mandi at Kunri (C:195.878) | D48: Umerkot | E48: Approved 29.09.07 (U/R) | F48: June-26 | G48: 195.878 | H48: 195.878 | I48: 0 | J48: 0 | K48: 195.878 | L48: 0 | M48: 0.1 | N48: 0 | O48: 0.1 | Z48: 0.1 | AA48: 0 | AB48: 0.1 | AE48: 0 | AF48: 0 | AG48: 0 | AH48: 0 | AJ48: U/R | AL48: 0.25 | AM48: 0
C50: Total Agriculture Marketing (Ongoing):- | G50: 195.878 | H50: 195.878 | I50: 0 | J50: 0 | K50: 195.878 | L50: 0 | M50: 0.1 | N50: 0 | O50: 0.1 | P50: 0 | Q50: 0 | R50: 0 | S50: 0 | T50: 0 | U50: 0 | V50: 0 | W50: 0 | X50: 0 | Y50: 0 | Z50: 0.1 | AA50: 0 | AB50: 0.1 | AC50: 0 | AD50: 0 | AE50: 0 | AF50: 0 | AG50: 0 | AH50: 0 | AI50: 0 | AM50: 0
...

Sheet Auq
A1: PROVINCIAL
A2: AUQAF, RELIGIOUS AFFAIRS, ZAKAT & USHR DEPARTMENT
AK3: Rs in Million
A4: Gen. S.No. | B4: UID | C4: Sector / Sub-sector / Name of Scheme | D4: Location of Scheme/ District | E4: Status Date of Approval | F4: Target Date for Comple-tion | G4: Estimated Cost | H4: Actual Expend- iture upto June, 24 | I4: Revised Allocation 2024-25 | K4: Estimated Expendit-ure upto June' 25 | L4: Throw-forward as on 01-07-25 | M4: Allocation 2025-26 | P4: Re-Appropration 2025-26 | T4: Out Side Budget | V4: Overall Saving | X4: Surrender | Z4: Modify Budget 2025-26 | AC4: Release 2025-26 | AF4: Expenditure | AI4: Assignment Account | AJ4: Remarks | AK4: Date of Releases | AL4: Status | AM4: FPA
P5: Capital | Q5: Capital | R5: Revenue | S5: Revenue
I6: Total | J6: F.P.A | M6: Capital | N6: Revenue | O6: Total | P6: Addition | Q6: Deduction | R6: Addition | S6: Deduction | T6: Capital | U6: Revenue | V6: Capital | W6: Revenue | X6: Capital | Y6: Revenue | Z6: Capital | AA6: Revenue | AB6: Total | AC6: Capital | AD6: Revenue | AE6: Total | AF6: Capital | AG6: Revenue | AH6: Total
A7: 1 | B7: 2 | C7: 3 | D7: 4 | E7: 5 | F7: 6 | G7: 7 | H7: 8 | I7: 9 | J7: 10 | K7: 11 | L7: 12 | M7: 13 | N7: 14 | O7: 15 | P7: 16 | Q7: 17 | R7: 18 | S7: 19 | T7: 20 | U7: 21 | V7: 22 | W7: 23 | X7: 24 | Y7: 25 | Z7: 10 | AA7: 11 | AB7: 12 | AC7: 9 | AD7: 10 | AE7: 11 | AF7: 12 | AG7: 13 | AH7: 14 | AI7: 15 | AJ7: 15 | AK7: 16 | AL7: 17 | AM7: 16
A9: * | C9: Auqaf (On-going schemes)
A11: 44 | B11: AZUAQ-PP-13-0002 | C11: Construction / Reconstruction / Rehabilitation & Allied Facilities of Dargahs in Sindh (6 Nos.), T.M Khan (01), Thatta (02), Khairpur (01), Hyderabad (01) and Larkano (01) (SDG #2.1) | D11: T.M. Khan, Thatta, Khairpur, Hyderabad & Larkano | E11: Approved 03.12.13 | F11: June-27 | G11: 150.599 | H11: 128.335 | I11: 0 | J11: 0 | K11: 128.335 | L11: 22.264 | M11: 22.264 | N11: 0 | O11: 22.264 | Z11: 22.264 | AA11: 0 | AB11: 22.264 | AE11: 0 | AF11: 0 | AG11: 0 | AH11: 0 | AJ11: Un-Satisfatory ON FILE DATED 04-2-2026 | AL11: 1 | AM11: 0
A12: 45 | B12: AZUAQ-PP-17-0005 | C12: Construction of Dargah Hazrat Shah Abdul Rehman (Meerani Meer), Taluka New Saeedabad District Matiari (SDG#2.1) | D12: Matiari | E12: Approved 26.01.18 (U/R) | F12: June-27 | G12: 79.202 | H12: 79.202 | I12: 0 | J12: 0 | K12: 79.202 | L12: 0 | M12: 0.001 | N12: 0 | O12: 0.001 | Z12: 0.001 | AA12: 0 | AB12: 0.001 | AE12: 0 | AF12: 0 | AG12: 0 | AH12: 0 | AJ12: U/R | AL12: 0.25 | AM12: 0
A13: 46 | B13: AZUAQ-PP-19-0009 | C13: Construction of Dispensary / Minor & Repairs attached Unit at Dargah Luwari Sharif District Badin (Revised on 09-06-2020) | D13: Badin | E13: Approved 12.02.16 (U/R) | F13: June-27 | G13: 96.126 | H13: 64.8 | I13: 27.953 | J13: 0 | K13: 92.753 | L13: 3.373 | M13: 3.373 | N13: 0 | O13: 3.373 | Z13: 3.373 | AA13: 0 | AB13: 3.373 | AE13: 0 | AF13: 0 | AG13: 0 | AH13: 0 | AJ13: U/R | AL13: 0.25 | AM13: 0
A14: 47 | B14: AZUAQ-PP-19-0015 | C14: Construction & Provision of Allied Facilities at Dargah Sare-Faqeer Hadi Gham Kusar Taluka Kingri District Khairpur (Revised on 17-09-2021) | D14: Khairpur | E14: Approved 10.10.19 (U/R) | F14: June-27 | G14: 95.569 | H14: 94.661 | I14: 0 | J14: 0 | K14: 94.661 | L14: 0.908 | M14: 0.001 | N14: 0 | O14: 0.001 | Z14: 0.001 | AA14: 0 | AB14: 0.001 | AE14: 0 | AF14: 0 | AG14: 0 | AH14: 0 | AJ14: U/R | AL14: 0.25 | AM14: 0
A15: 48 | B15: AZUAQ-PP-19-0017 | C15: Rehabilitation of Dargah Hazrat Tharu Shah District N.Feroze (Revised on 17-09-2021) | D15: N.Feroze | E15: Approved 10.10.19 | F15: June-27 | G15: 94.049 | H15: 26.452 | I15: 33.7855 | J15: 0 | K15: 60.2375 | L15: 33.8115 | M15: 33.812 | N15: 0 | O15: 33.812 | Z15: 33.812 | AA15: 0 | AB15: 33.812 | AC15: 33.812 | AE15: 33.812 | AF15: 30.735137 | AG15: 0 | AH15: 30.735137 | AJ15: Un-Satisfactory on file dated 25-02-2026 | AK15: Cap: 07-07-2025 | AL15: 1 | AM15: 0
A16: 49 | B16: AZUAQ-PP-21-0023 | C16: Construction of Musafikhana & Missing Faclities at Dargah Hazrat Ahmed Shah Lakyari Taluka New Saeedabad. | D16: Matiari | E16: Approved 17.09.21 | F16: June-27 | G16: 73.761 | H16: 22.825 | I16: 25.44525 | J16: 0 | K16: 48.27025 | L16: 25.49075 | M16: 25.491 | N16: 0 | O16: 25.491 | Z16: 25.491 | AA16: 0 | AB16: 25.491 | AC16: 25.491 | AE16: 25.491 | AF16: 17.864757 | AG16: 0 | AH16: 17.864757 | AK16: Cap: 07-07-2025 | AL16: 1 | AM16: 0
A17: 50 | B17: AZUAQ-PP-21-0034 | C17: Rehabilitation & Renovation of Dargahs, Moullana Shah at Hoat Khan Jalbani, Syed Makan Shah, Lalan Ghot & Masjid Goth Sher Muhammad Abro, Mehrabpur. | D17: N.Feroze | E17: Approved 17.09.21 | F17: June-27 | G17: 20 | H17: 2.397 | I17: 0 | J17: 0 | K17: 2.397 | L17: 17.603 | M17: 17.603 | N17: 0 | O17: 17.603 | Z17: 17.603 | AA17: 0 | AB17: 17.603 | AC17: 17.603 | AE17: 17.603 | AF17: 0 | AG17: 0 | AH17: 0 | AK17: Cap: 07-07-2025 | AL17: 1 | AM17: 0
A18: 51 | B18: AZUAQ-PP-21-0040 | C18: Construction & Provision of Allied Facilities at Dargah Sain Fazlulllah Jatoi village Sono Jattoi UC Puranoabad. | D18: Larkano | E18: Approved 17.09.21 (U/R) | F18: June-27 | G18: 15 | H18: 14.522 | I18: 0 | J18: 0 | K18: 14.522 | L18: 0.478 | M18: 0.478 | N18: 0 | O18: 0.478 | Z18: 0.478 | AA18: 0 | AB18: 0.478 | AE18: 0 | AF18: 0 | AG18: 0 | AH18: 0 | AJ18: U/R | AL18: 0.25 | AM18: 0
A19: 52 | B19: AZUAQ-PP-21-0044 | C19: Construction & Provision of Allied Facilities at Dargah Sain Hadiatullah Arijo village & UC Arija. | D19: Larkano | E19: Approved 23.12.21 (U/R) | F19: June-27 | G19: 16 | H19: 14.64 | I19: 0.00525 | J19: 0 | K19: 14.64525 | L19: 1.35475 | M19: 1.355 | N19: 0 | O19: 1.355 | Z19: 1.355 | AA19: 0 | AB19: 1.355 | AE19: 0 | AF19: 0 | AG19: 0 | AH19: 0 | AJ19: U/R | AL19: 0.25 | AM19: 0
A20: 53 | B20: AZUAQ-PP-21-0048 | C20: Construction & Provision of Allied Facilities at Dargah Peer Mohban Shah Village Fatehpur Gaji Dero. | D20: Larkano | E20: Approved 17.09.21 (U/R) | F20: June-27 | G20: 16 | H20: 15.628 | I20: 0 | J20: 0 | K20: 15.628 | L20: 0.372 | M20: 0.372 | N20: 0 | O20: 0.372 | Z20: 0.372 | AA20: 0 | AB20: 0.372 | AE20: 0 | AF20: 0 | AG20: 0 | AH20: 0 | AJ20: U/R | AL20: 0.25 | AM20: 0
A21: 54 | B21: AZUAQ-PP-21-0051 | C21: Construction of Compound Wall, Marble Flooring and Repair Renovation of Dargah Pir Haji Mehmood Shah Village Kaniya Kalohora Taluka Kandiaro. | D21: N.Feroze | E21: Approved 17.09.21 | F21: June-27 | G21: 30 | H21: 4.743 | I21: 0 | J21: 0 | K21: 4.743 | L21: 25.257 | M21: 25.257 | N21: 0 | O21: 25.257 | Z21: 25.257 | AA21: 0 | AB21: 25.257 | AC21: 25.257 | AE21: 25.257 | AF21: 0 | AG21: 0 | AH21: 0 | AK21: Cap: 07-07-2025 | AL21: 1 | AM21: 0
A22: 55 | B22: AZUAQ-PP-21-0053 | C22: Repair / Renovation Dargah Shamsi Badshah Village Pir Jo Goth Ward No.02, Masjid Mohram Soomro Muhalla Gharibabad ward No. 05 Naudero, Masjid-e-Ali opposite G.P.S Hassan Pur Muhalla, Azizia Masjid near VIP Bakri, Masjid at village Masu Dero UC Kohri & Masjid at Village Chahwan UC Bhaman Taluka Ratodero (Revised on 23.01.24) | D22: Larkano | E22: Approved 01.03.22 | F22: June-27 | G22: 95.56 | H22: 13.356 | I22: 40.3 | J22: 0 | K22: 53.656 | L22: 41.904 | M22: 41.904 | N22: 0 | O22: 41.904 | Z22: 41.904 | AA22: 0 | AB22: 41.904 | AC22: 41.904 | AE22: 41.904 | AF22: 16.621047 | AG22: 0 | AH22: 16.621047 | AK22: Cap: 07-07-2025 | AL22: 1 | AM22: 0
A23: 56 | B23: AZUAQ-PP-22-0018 | C23: Construction of Punnal Peer village Butt Serai UC Butt Serai, Taluka Mehar and Constt. of Dargah Haider Shah Jeelani and Reconstruction of Masjid village Seeta Road Taluka Khairpur Nathanshah | D23: Dadu | E23: Approved 20.01.23 | F23: June-27 | G23: 20 | H23: 1.248 | I23: 0 | J23: 0 | K23: 1.248 | L23: 18.752 | M23: 18.752 | N23: 0 | O23: 18.752 | Z23: 18.752 | AA23: 0 | AB23: 18.752 | AC23: 18.752 | AE23: 18.752 | AF23: 0 | AG23: 0 | AH23: 0 | AK23: Cap: 07-07-2025 | AL23: 1 | AM23: 0
A24: 57 | B24: AZUAQ-PP-22-0019 | C24: Rehabilitation / Renovation of Haidri Jamia Masjid and Imam Bargah Village Mir Hassan Mari, Taluka Moro and Renovation / Rehabilitation of Imam Bargah at Behlani Taluka Mehrabpur, District N.Feroze (Revised on 23-01-2024). | D24: N.Feroze | E24: Approved 20.01.23 | F24: June-26 | G24: 105.779 | H24: 3.75 | I24: 56.3705 | J24: 0 | K24: 60.1205 | L24: 45.6585 | M24: 45.659 | N24: 0 | O24: 45.659 | Z24: 45.659 | AA24: 0 | AB24: 45.659 | AC24: 45.659 | AE24: 45.659 | AF24: 45.65892 | AG24: 0 | AH24: 45.65892 | AK24: Cap: 07-07-2025 | AL24: 1 | AM24: 0
A25: 58 | B25: AZUAQ-PP-22-0024 | C25: Constt. of Dargah & Allied Facilities Hazrat Bibi Maham (SA) Aghamano Graveyard District Badin (Revised on 23.01.24). | D25: Badin | E25: Approved 20.01.23 | F25: June-27 | G25: 120.512 | H25: 0 | I25: 5.963 | J25: 0 | K25: 5.963 | L25: 114.549 | M25: 76.184 | N25: 0 | O25: 76.184 | Z25: 76.184 | AA25: 0 | AB25: 76.184 | AC25: 19.046 | AE25: 19.046 | AF25: 19.046 | AG25: 0 | AH25: 19.046 | AK25: Cap: 07-07-2025 | AL25: 0.25 | AM25: 0
A26: 59 | B26: AZUAQ-PP-23-0001 | C26: Construction of Musafirkhana and Wazokhan at Dargah Must Alhar Shah Goth Village Butt, UC Butt Serai, Taluka Mehar (Revised on 08.11.24). | D26: Dadu | E26: Approved 19.04.24 | F26: June-26 | G26: 13.271 | H26: 0 | I26: 9.213 | J26: 0 | K26: 9.213 | L26: 4.058 | M26: 4.058 | N26: 0 | O26: 4.058 | Z26: 4.058 | AA26: 0 | AB26: 4.058 | AC26: 4.058 | AE26: 4.058 | AF26: 4.043192 | AG26: 0 | AH26: 4.043192 | AJ26: Un-Satisfactory on letter dated 23-06-2026 | AK26: Cap: 07-07-2025 | AL26: 1 | AM26: 0
A27: 60 | B27: AZUAQ-PP-23-0002 | C27: Construction of Musafirkhan at Dargah Perdasi Peer Near Main Road Village UC Butt Serai Taluka Mehar (Revised on 08.11.24). | D27: Dadu | E27: Approved 19.04.24 | F27: June-26 | G27: 6.257 | H27: 0 | I27: 5.062 | J27: 0 | K27: 5.062 | L27: 1.195 | M27: 1.195 | N27: 0 | O27: 1.195 | Z27: 1.195 | AA27: 0 | AB27: 1.195 | AC27: 1.195 | AE27: 1.195 | AF27: 1.129283 | AG27: 0 | AH27: 1.129283 | AK27: Cap: 07-07-2025 | AL27: 1 | AM27: 0
A28: 61 | B28: AZUAQ-PP-23-0003 | C28: Construction Works at Dargah Drib Pir Mehar Shah Talka Kingri, District Khairpur (Revised on 08.11.24). | D28: Khairpur | E28: Approved 19.04.24 | F28: June-26 | G28: 25.377 | H28: 0 | I28: 18.368 | J28: 0 | K28: 18.368 | L28: 7.009 | M28: 7.009 | N28: 0 | O28: 7.009 | Z28: 7.009 | AA28: 0 | AB28: 7.009 | AC28: 7.009 | AE28: 7.009 | AF28: 6.462137 | AG28: 0 | AH28: 6.462137 | AK28: Cap: 07-07-2025 | AL28: 1 | AM28: 0
A29: 62 | B29: AZUAQ-PP-23-0004 | C29: Construction of Building for Langer Khana at Dargah Razi Shah Ghot (Mohrano Jo Mir) Near Naukot and Building for Langer Khana at Dargah Sikeeladho Shah near village Naupuro Chachro (Revised on 08.11.24). | D29: Tharparkar | E29: Approved 23.01.24 | F29: June-26 | G29: 19.929 | H29: 0 | I29: 13.346 | J29: 0 | K29: 13.346 | L29: 6.583 | M29: 6.583 | N29: 0 | O29: 6.583 | Z29: 6.583 | AA29: 0 | AB29: 6.583 | AC29: 6.583 | AE29: 6.583 | AF29: 6.223183 | AG29: 0 | AH29: 6.223183 | AK29: Cap: 07-07-2025 | AL29: 1 | AM29: 0
A30: 63 | B30: AZUAQ-PP-23-0005 | C30: Reconstruction / Extension of Masjid Sharif at Dargah Ghousia Alia Ranipur, Distrtict Khairpur (Revised on 08.11.24). | D30: Khairpur | E30: Approved 19.04.24 | F30: June-26 | G30: 21.547 | H30: 0 | I30: 15.327 | J30: 0 | K30: 15.327 | L30: 6.22 | M30: 6.22 | N30: 0 | O30: 6.22 | Z30: 6.22 | AA30: 0 | AB30: 6.22 | AC30: 6.22 | AE30: 6.22 | AF30: 6.22 | AG30: 0 | AH30: 6.22 | AK30: Cap: 07-07-2025 | AL30: 1 | AM30: 0
A31: 64 | B31: AZUAQ-PP-23-0006 | C31: Reconstruction of Shah Waliullah Academy at Jamia Masjid Saddar Hyderabad (Revised on 08.11.24). | D31: Hyderabad | E31: Approved 23.01.24 | F31: June-26 | G31: 24.813 | H31: 0 | I31: 15.49 | J31: 0 | K31: 15.49 | L31: 9.323 | M31: 9.323 | N31: 0 | O31: 9.323 | Z31: 9.323 | AA31: 0 | AB31: 9.323 | AC31: 9.323 | AE31: 9.323 | AF31: 8.601017 | AG31: 0 | AH31: 8.601017 | AK31: Cap: 07-07-2025 | AL31: 1 | AM31: 0
A32: 65 | B32: AZUAQ-PP-23-0007 | C32: Construction of Eidgah Memon Muhalla Taluka Gambat District Khairpur (Revised on 08.11.24). | D32: Khairpur | E32: Approved 23.01.24 | F32: June-26 | G32: 25.652 | H32: 0 | I32: 17.257 | J32: 0 | K32: 17.257 | L32: 8.395 | M32: 8.395 | N32: 0 | O32: 8.395 | Z32: 8.395 | AA32: 0 | AB32: 8.395 | AC32: 8.395 | AE32: 8.395 | AF32: 8.394551 | AG32: 0 | AH32: 8.394551 | AK32: Cap: 07-07-2025 | AL32: 1 | AM32: 0
A33: 66 | B33: AZUAQ-PP-23-0008 | C33: Rehabilitation / Renovation of old Rest House, Zaireen Shades and Lavatory Blocks at Dargah Hazrat Lal Shahbaz Qalander Shahbaz R.A at Sehwan Sharif (Revised on 08.11.24). | D33: Jamshoro | E33: Approved 19.04.24 | F33: June-26 | G33: 72.582 | H33: 0 | I33: 50.857 | J33: 0 | K33: 50.857 | L33: 21.725 | M33: 21.725 | N33: 0 | O33: 21.725 | Z33: 21.725 | AA33: 0 | AB33: 21.725 | AC33: 21.725 | AE33: 21.725 | AF33: 21.725 | AG33: 0 | AH33: 21.725 | AK33: Cap: 07-07-2025 | AL33: 1 | AM33: 0
A34: 67 | B34: AZUAQ-PP-23-0009 | C34: Renovation / Reconstruction of Dargah Shoaibuddin Shah Bukhari, UC Talti, Taluka Sehwan, District Jamshoro (Revised on 08.11.24). | D34: Jamshoro | E34: Approved 19.04.24 | F34: June-26 | G34: 11.714 | H34: 0 | I34: 10.339 | J34: 0 | K34: 10.339 | L34: 1.375 | M34: 1.375 | N34: 0 | O34: 1.375 | Z34: 1.375 | AA34: 0 | AB34: 1.375 | AC34: 1.375 | AE34: 1.375 | AF34: 0 | AG34: 0 | AH34: 0 | AK34: Cap: 07-07-2025 | AL34: 1 | AM34: 0
A35: 68 | B35: AZUAQ-PP-23-0010 | C35: Construction of Boundary Wall alongwith Gates at Graveyards of Village Qazi Noor Muhammad Laghari and Mision Wadi, Taluka Jhando Marri, District Tando Allahyar (Revised on 08.11.24). | D35: T.A.Yar | E35: Approved 23.01.24 | F35: June-26 | G35: 92.69 | H35: 0 | I35: 8.94175 | J35: 0 | K35: 8.94175 | L35: 83.74825 | M35: 83.748 | N35: 0 | O35: 83.748 | Z35: 83.748 | AA35: 0 | AB35: 83.748 | AC35: 83.748 | AE35: 83.748 | AF35: 83.747278 | AG35: 0 | AH35: 83.747278 | AK35: Cap: 07-07-2025 & 06-11-2025 | AL35: 0.5 | AM35: 0
A36: 69 | B36: AZUAQ-PP-23-0011 | C36: Construction of Langerkhana at Imam Bargah Pir Muhmme Shah Near Allahwal Chowk and Construction of Langerkhana at Dargah Nimran Shah near Hirabad Muncipal Committee Umerkot (Revised on 08.11.24). | D36: Umerkot | E36: Approved 23.01.24 | F36: June-26 | G36: 23.653 | H36: 0 | I36: 15.432 | J36: 0 | K36: 15.432 | L36: 8.221 | M36: 8.221 | N36: 0 | O36: 8.221 | Z36: 8.221 | AA36: 0 | AB36: 8.221 | AC36: 8.221 | AE36: 8.221 | AF36: 8.012196 | AG36: 0 | AH36: 8.012196 | AK36: Cap: 07-07-2025 | AL36: 1 | AM36: 0
A37: 70 | B37: AZUAQ-PP-23-0012 | C37: Construction of Masoom Ali Asghar Imam Bargah Korangi Karachi (Revised on 08.11.24). | D37: Karachi (Kor) | E37: Approved 23.01.24 | F37: June-26 | G37: 25.068 | H37: 0 | I37: 17.228 | J37: 0 | K37: 17.228 | L37: 7.84 | M37: 7.84 | N37: 0 | O37: 7.84 | Z37: 7.84 | AA37: 0 | AB37: 7.84 | AC37: 7.84 | AE37: 7.84 | AF37: 7.087042 | AG37: 0 | AH37: 7.087042 | AJ37: Un-Satisfactory on letter dated 19-05-2026 | AK37: Cap: 07-07-2025 | AL37: 1 | AM37: 0
A38: 71 | B38: AZUAQ-PP-23-0013 | C38: Rehabilitation / Improvement of Dargah Hazrat Abdul Qadir Shah Jeelani Near Tando Masti, District Khairpur (Revised on 08.11.24). | D38: Khairpur | E38: Approved 19.04.24 | F38: June-26 | G38: 11.042 | H38: 0 | I38: 8.152 | J38: 0 | K38: 8.152 | L38: 2.89 | M38: 2.89 | N38: 0 | O38: 2.89 | Z38: 2.89 | AA38: 0 | AB38: 2.89 | AC38: 2.89 | AE38: 2.89 | AF38: 2.590521 | AG38: 0 | AH38: 2.590521 | AK38: Cap: 07-07-2025 | AL38: 1 | AM38: 0
A39: 72 | B39: AZUAQ-PP-23-0014 | C39: Construction of Musafirkhana at Dargah Bibi Maham District Badin (Revised on 08.11.24). | D39: Badin | E39: Approved 23.01.24 | F39: June-26 | G39: 59.276 | H39: 0 | I39: 39.165 | J39: 0 | K39: 39.165 | L39: 20.111 | M39: 20.111 | N39: 0 | O39: 20.111 | Z39: 20.111 | AA39: 0 | AB39: 20.111 | AC39: 20.111 | AE39: 20.111 | AF39: 19.808253 | AG39: 0 | AH39: 19.808253 | AK39: Cap: 07-07-2025 | AL39: 1 | AM39: 0
A40: 73 | B40: AZUAQ-PP-21-0042 | C40: Construction & Provision of Allied Facilities at Dargah Shaeed Badshah village Haji Ghulam Shah UC Puranoabad (Missing scheme ADP No. 62/2023-24) | D40: Larkano | E40: Approved 17.09.21 (U/R) | F40: June-26 | G40: 15 | H40: 14.599 | I40: 0 | J40: 0 | K40: 14.599 | L40: 0.401 | M40: 0.401 | N40: 0 | O40: 0.401 | Z40: 0.401 | AA40: 0 | AB40: 0.401 | AE40: 0 | AF40: 0 | AG40: 0 | AH40: 0 | AJ40: U/R | AL40: 0.25 | AM40: 0
C41: Total Auqaf, R.A., Zakat & Ushr (On-going) :- | G41: 1476.028 | H41: 501.158 | I41: 434.00025 | J41: 0 | K41: 935.15825 | L41: 540.86975 | M41: 501.6 | N41: 0 | O41: 501.6 | P41: 0 | Q41: 0 | R41: 0 | S41: 0 | T41: 0 | U41: 0 | V41: 0 | W41: 0 | X41: 0 | Y41: 0 | Z41: 501.6 | AA41: 0 | AB41: 501.6 | AC41: 416.217 | AD41: 0 | AE41: 416.217 | AF41: 313.96951 | AG41: 0 | AH41: 313.96951 | AI41: 0 | AM41: 0
C43: (New Schemes)
...

Sheet BOR
A1: PROVINCIAL
A2: BOARD OF REVENUE
AK3: Rs in Million
A4: Gen. Sr. No. | B4: UID | C4: Sector / Sub-sector / Name of Scheme | D4: Location of Scheme/ District | E4: Status Date of Approval | F4: Target Date for Completion | G4: Estimated Cost | H4: Actual Expendit-ure upto June, 24 | I4: Revised Allocation 2024-25 | K4: Estimated Expendit- ure upto June' 25 | L4: Throwfor-ward as on 01-07-25 | M4: Allocation for 2025-26 | P4: Re-Appropration 2025-26 | T4: Out Side Budget | V4: Overall Saving | X4: Surrender | Z4: Modify Budget 2025-26 | AC4: Release 2025-26 | AF4: Expenditure | AI4: Assignment Account | AJ4: Remarks | AK4: Date of Releases | AL4: Status | AM4: FPA
P5: Capital | Q5: Capital | R5: Revenue | S5: Revenue
I6: Total | J6: F.P.A. | M6: Capital | N6: Revenue | O6: Total | P6: Addition | Q6: Deduction | R6: Addition | S6: Deduction | T6: Capital | U6: Revenue | V6: Capital | W6: Revenue | X6: Capital | Y6: Revenue | Z6: Capital | AA6: Revenue | AB6: Total | AC6: Capital | AD6: Revenue | AE6: Total | AF6: Capital | AG6: Revenue | AH6: Total
A7: 1 | B7: 2 | C7: 3 | D7: 4 | E7: 5 | F7: 6 | G7: 7 | H7: 8 | I7: 9 | J7: 10 | K7: 11 | L7: 12 | M7: 13 | N7: 14 | O7: 15 | P7: 16 | Q7: 17 | R7: 18 | S7: 19 | T7: 20 | U7: 21 | V7: 22 | W7: 23 | X7: 24 | Y7: 25 | Z7: 10 | AA7: 11 | AB7: 12 | AC7: 9 | AD7: 10 | AE7: 11 | AF7: 12 | AG7: 13 | AH7: 14 | AI7: 15 | AJ7: 15 | AK7: 16 | AL7: 17 | AM7: 16
C9: Buildings
C10: (On-Going Scheme)
A11: 79 | B11: BORBR-PP-07-0001 | C11: Construction of Office of District Registrar at Karachi and Sub-Registrar Offices (22 Nos) at Head Quarters all Districts in Sindh | D11: Sindh | E11: Approved 26.03.08 (U/R) | F11: June-26 | G11: 160.2 | H11: 109.427 | I11: 0 | J11: 0 | K11: 109.427 | L11: 50.773 | M11: 50.773 | N11: 0 | O11: 50.773 | Z11: 50.773 | AA11: 0 | AB11: 50.773 | AE11: 0 | AF11: 0 | AG11: 0 | AH11: 0 | AJ11: Un-Satisfactory on file dated 28-08-2025Un-Satisfactory on file dated 05-11-202 | AL11: 0.25 | AM11: 0
C12: Total Building Ongoing Scheme :- | G12: 160.2 | H12: 109.427 | I12: 0 | J12: 0 | K12: 109.427 | L12: 50.773 | M12: 50.773 | N12: 0 | O12: 50.773 | P12: 0 | Q12: 0 | R12: 0 | S12: 0 | T12: 0 | U12: 0 | V12: 0 | W12: 0 | X12: 0 | Y12: 0 | Z12: 50.773 | AA12: 0 | AB12: 50.773 | AC12: 0 | AD12: 0 | AE12: 0 | AF12: 0 | AG12: 0 | AH12: 0 | AI12: 0 | AM12: 0
C14: I.T. Scheme
C15: (New Scheme)
A17: 80 | B17: BORIT-PP-23-0001 | C17: Computerization & Establishment of Land Administration & Revenue Management Information System-II (LARMIS-II) | D17: Karachi (South) | E17: Un-Approved | F17: June-27 | G17: 924.576 | H17: 0 | I17: 0 | J17: 0 | K17: 0 | L17: 924.576 | M17: 0 | N17: 270.227 | O17: 270.227 | Z17: 0 | AA17: 270.227 | AB17: 270.227 | AE17: 0 | AF17: 0 | AG17: 0 | AH17: 0 | AJ17: Un-Approved | AL17: 0.25 | AM17: 0
C18: Total I.T.:- | G18: 924.576 | H18: 0 | I18: 0 | J18: 0 | K18: 0 | L18: 924.576 | M18: 0 | N18: 270.227 | O18: 270.227 | P18: 0 | Q18: 0 | R18: 0 | S18: 0 | T18: 0 | U18: 0 | V18: 0 | W18: 0 | X18: 0 | Y18: 0 | Z18: 0 | AA18: 270.227 | AB18: 270.227 | AC18: 0 | AD18: 0 | AE18: 0 | AF18: 0 | AG18: 0 | AH18: 0 | AI18: 0 | AM18: 0
C19: Total BOR :- | G19: 1084.776 | H19: 109.427 | I19: 0 | J19: 0 | K19: 109.427 | L19: 975.349 | M19: 50.773 | N19: 270.227 | O19: 321 | P19: 0 | Q19: 0 | R19: 0 | S19: 0 | T19: 0 | U19: 0 | V19: 0 | W19: 0 | X19: 0 | Y19: 0 | Z19: 50.773 | AA19: 270.227 | AB19: 321 | AC19: 0 | AD19: 0 | AE19: 0 | AF19: 0 | AG19: 0 | AH19: 0 | AI19: 0 | AM19: 0

Sheet Culture
A1: PROVINCIAL
A2: CULTURE, TOURISM, ANTIQUITIES & ARCHIVES DEPARTMENT
AK3: Rs in Million
A4: Gen. Sr. No. | B4: UID | C4: Sector / Sub-sector / Name of Scheme | D4: Location of Scheme/ District | E4: Status Date of Approval | F4: Target Date for Comple- tion | G4: Estimated Cost | H4: Actual Exp: upto June, 24 | I4: Revised Allocation 2023-24 | K4: Estimated Expendit-ure upto June' 25 | L4: Throw for- ward as on 01-07-25 | M4: Allocation for 2025-26 | P4: Re-Appropration 2025-26 | T4: Out Side Budget | V4: Overall Saving | X4: Surrender | Z4: Modify Budget 2025-26 | AC4: Release 2025-26 | AF4: Expenditure | AI4: Assignment Account | AJ4: Remarks | AK4: Date of Releases | AL4: Status | AM4: FPA
P5: Capital | Q5: Capital | R5: Revenue | S5: Revenue
I6: Total | J6: F.P.A. | M6: Capital | N6: Revenue | O6: Total | P6: Addition | Q6: Deduction | R6: Addition | S6: Deduction | T6: Capital | U6: Revenue | V6: Capital | W6: Revenue | X6: Capital | Y6: Revenue | Z6: Capital | AA6: Revenue | AB6: Total | AC6: Capital | AD6: Revenue | AE6: Total | AF6: Capital | AG6: Revenue | AH6: Total
A7: 1 | B7: 2 | C7: 3 | D7: 4 | E7: 5 | F7: 6 | G7: 7 | H7: 8 | I7: 9 | J7: 10 | K7: 11 | L7: 12 | M7: 13 | N7: 14 | O7: 15 | P7: 16 | Q7: 17 | R7: 18 | S7: 19 | T7: 20 | U7: 21 | V7: 22 | W7: 23 | X7: 24 | Y7: 25 | Z7: 10 | AA7: 11 | AB7: 12 | AC7: 9 | AD7: 10 | AE7: 11 | AF7: 12 | AG7: 13 | AH7: 14 | AI7: 15 | AJ7: 15 | AK7: 16 | AL7: 17 | AM7: 16
A9: * | C9: Culture (Ongoing Schemes)
A11: 81 | B11: CTACT-PP-16-0006 | C11: Auditorium Hall Rest House And Main Entrance Gate at Dargah Hazrat Sardar Ahmed Shah Lakyari Taluka Saeedabad District Matiari (Revised on 18.01.22) (C86.173.993:+R:12.768) | D11: Matiari | E11: Approved 04.01.17 | F11: June-27 | G11: 186.761 | H11: 87.653 | I11: 11.948 | J11: 0 | K11: 99.601 | L11: 87.16 | M11: 20 | N11: 0 | O11: 20 | Z11: 20 | AA11: 0 | AB11: 20 | AC11: 5 | AE11: 5 | AF11: 4.99081 | AG11: 0 | AH11: 4.99081 | AK11: Cap: 07-07-2025 | AL11: 0.25 | AM11: 0
A12: 82 | B12: CTACT-PP-20-0002 | C12: Missing Allied facilities of Cultural Complex at Sukkur. (Re-Revised 26.06.23) (C:377.498+R:74.502) | D12: Sukkur | E12: Approved 22.08.17 | F12: June-27 | G12: 452 | H12: 153.648 | I12: 59.1695 | J12: 0 | K12: 212.8175 | L12: 239.1825 | M12: 15 | N12: 0 | O12: 15 | Z12: 15 | AA12: 0 | AB12: 15 | AC12: 15 | AE12: 15 | AF12: 14.963181 | AG12: 0 | AH12: 14.963181 | AK12: Cap: 07-07-2025 & 06-08-2025 & 12-09-2025 & 13-02-2026 | AL12: 0.25 | AM12: 0
A13: 83 | B13: CTACT-PP-19-0026 | C13: Provision of Missing Allied Facilities in Culture Complex at Nawabshah. (Revised on 30.05.23) (C:175.381+R:17.619) | D13: S.B.A | E13: Approved 14.11.19 | F13: June-27 | G13: 193 | H13: 9.692 | I13: 0 | J13: 0 | K13: 9.692 | L13: 183.308 | M13: 5 | N13: 0 | O13: 5 | Z13: 5 | AA13: 0 | AB13: 5 | AC13: 1.25 | AE13: 1.25 | AF13: 0 | AG13: 0 | AH13: 0 | AJ13: Un-Satisfactory on P&D Film | AK13: Cap: 07-07-2025 | AL13: 0.25 | AM13: 0
A14: 84 | B14: CTACT-PP-21-0056 | C14: Establishment of Auditorium at Badin. (Revised on 23.05.23) (C:160.870+R:29.130) | D14: Badin | E14: Approved 26.08.21 | F14: June-27 | G14: 190 | H14: 33.273 | I14: 32.704 | J14: 0 | K14: 65.977 | L14: 124.023 | M14: 30 | N14: 0 | O14: 30 | Z14: 30 | AA14: 0 | AB14: 30 | AC14: 30 | AE14: 30 | AF14: 29.998567 | AG14: 0 | AH14: 29.998567 | AK14: Cap: 07-07-2025 & 06-08-2025 & 12-09-2025 & 19-09-2025 | AL14: 0.25 | AM14: 0
A15: 85 | B15: CTACT-PP-21-0059 | C15: Provision of Allied Facilities at Cultural Complex Thatta (Revised on 03.04.24) (C:184.842+R:14.996) | D15: Thatta | E15: Approved 26.08.21 | F15: June-26 | G15: 199.838 | H15: 36.266 | I15: 32.7135 | J15: 0 | K15: 68.9795 | L15: 130.8585 | M15: 115.972 | N15: 14.887 | O15: 130.859 | Z15: 115.972 | AA15: 14.887 | AB15: 130.859 | AC15: 115.972 | AD15: 14.887 | AE15: 130.859 | AF15: 115.972 | AG15: 14.87725 | AH15: 130.84925 | AK15: Cap: 07-07-2025 & 06-08-2025 & 07-08-2025 | AL15: 0.5 | AM15: 0
A16: 86 | B16: CTACT-PP-21-0060 | C16: Provision of Allied Facilities at Cultural Complex Sanghar. (Revised on 16.05.23) (C:178.229+R:18.045) | D16: Sanghar | E16: Approved 26.08.21 | F16: June-27 | G16: 196.274 | H16: 50.725 | I16: 27.9995 | J16: 0 | K16: 78.7245 | L16: 117.5495 | M16: 70 | N16: 0 | O16: 70 | Z16: 70 | AA16: 0 | AB16: 70 | AC16: 70 | AE16: 70 | AF16: 69.978515 | AG16: 0 | AH16: 69.978515 | AK16: Cap: 07-07-2025 & 06-08-2025 & 06-01-2026 & 13-02-2026 | AL16: 0.25 | AM16: 0
A17: 87 | B17: CTACT-PP-22-0026 | C17: Construction of Library / Cultural Centre & Museum at Luari Sharif District Badin (Revised on 03.04.24) (C:187.346+R:12.312) | D17: Badin | E17: Approved 26.08.21 | F17: June-26 | G17: 199.658 | H17: 21.466 | I17: 130.4275 | J17: 0 | K17: 151.8935 | L17: 47.7645 | M17: 36.919 | N17: 10.846 | O17: 47.765 | Z17: 36.919 | AA17: 10.846 | AB17: 47.765 | AC17: 36.919 | AD17: 10.846 | AE17: 47.765 | AF17: 36.918911 | AG17: 10.80126 | AH17: 47.720171 | AK17: Cap: 07-07-2025 & R: 06-08-2025 | AL17: 1 | AM17: 0
A18: 88 | B18: CTACT-PP-22-0027 | C18: Construction of Children Library & Book Shop and Provision Allied Facilities at Dargah Hazrat Allama Mian Ghulam Muhammad Mahesar at Kamal Dero Taluka Gambat District Khairpur (C:32.904+R:7.096) | D18: Khairpur | E18: Approved 23.05.23 | F18: June-27 | G18: 40 | H18: 0 | I18: 0 | J18: 0 | K18: 0 | L18: 40 | M18: 10 | N18: 0 | O18: 10 | Z18: 10 | AA18: 0 | AB18: 10 | AC18: 10 | AE18: 10 | AF18: 9.997221 | AG18: 0 | AH18: 9.997221 | AK18: Cap: 07-07-2025 & 12-09-2025 & 06-01-2026 & 13-02-2026 | AL18: 0.25 | AM18: 0
A19: 89 | B19: CTACT-PP-23-0001 | C19: Establishment of Culture Center at Islamkot, District Tharparkar (Revised on 27.03.24) (C:176.944+R:14.688) | D19: Tharparkar | E19: Approved 11.07.23 | F19: June-27 | G19: 191.632 | H19: 9.375 | I19: 36.45075 | J19: 0 | K19: 45.82575 | L19: 145.80625 | M19: 50 | N19: 0 | O19: 50 | Z19: 50 | AA19: 0 | AB19: 50 | AC19: 50 | AE19: 50 | AF19: 49.995514 | AG19: 0 | AH19: 49.995514 | AK19: Cap: 07-07-2025 & 12-09-2025 & 06-01-2026 & 13-02-2026 | AL19: 0.25 | AM19: 0
A20: 90 | B20: CTACT-PP-23-0003 | C20: Extension & Improvement of Allama I.I Qazi Sindh Government Library, District Dadu (Revised on 03.04.24) (C:186.188+R:13.445) | D20: Dadu | E20: Approved 11.07.23 | F20: June-27 | G20: 199.633 | H20: 7.498 | I20: 38.42675 | J20: 0 | K20: 45.92475 | L20: 153.70825 | M20: 30 | N20: 0 | O20: 30 | Z20: 30 | AA20: 0 | AB20: 30 | AC20: 30 | AE20: 30 | AF20: 29.991019 | AG20: 0 | AH20: 29.991019 | AK20: Cap: 07-07-2025 & 06-08-2025 & 12-09-2025 & 19-09-2025 | AL20: 0.25 | AM20: 0
A21: 91 | B21: CTACT-PP-23-0004 | C21: Extension & Improvement of Public Library Latifabad, District Hyderabad (Revised on 12.02.25) (C:79.965+R:11.681) | D21: Hyderabad | E21: Approved 11.07.23 | F21: June-26 | G21: 91.646 | H21: 2.12 | I21: 14.874 | J21: 0 | K21: 16.994 | L21: 74.652 | M21: 68.019 | N21: 6.633 | O21: 74.652 | Z21: 68.019 | AA21: 6.633 | AB21: 74.652 | AC21: 68.0185 | AD21: 6.633 | AE21: 74.6515 | AF21: 68.018855 | AG21: 6.546 | AH21: 74.564855 | AK21: Cap: 07-07-2025 & 06-08-2025 & R: 06-08-2025 | AL21: 0.5 | AM21: 0
A22: 92 | B22: CTACT-PP-23-0006 | C22: Provision for Additional Allied Facilities of Public Library at Mehar, District Dadu (Revised on 03.04.24) (C:176.801+R:19.219) | D22: Dadu | E22: Approved 11.07.23 | F22: June-27 | G22: 196.019 | H22: 5.621 | I22: 38.07875 | J22: 0 | K22: 43.69975 | L22: 152.31925 | M22: 40 | N22: 0 | O22: 40 | Z22: 40 | AA22: 0 | AB22: 40 | AC22: 40 | AE22: 40 | AF22: 39.982561 | AG22: 0 | AH22: 39.982561 | AK22: Cap: 07-07-2025 & 06-08-2025 & 12-09-2025 & 13-02-2026 | AL22: 0.25 | AM22: 0
A23: 93 | B23: CTACT-PP-23-0007 | C23: Establishment of Muhammad Ibrahim Joyo Translation Bureau & Book Shop at Liaquat Memorial Library at Karachi (Revised on 03.04.24) (C:126.002+R:23.950) | D23: Karachi | E23: Approved 11.07.23 | F23: June-26 | G23: 149.952 | H23: 3.125 | I23: 29.36525 | J23: 0 | K23: 32.49025 | L23: 117.46175 | M23: 93.512 | N23: 23.95 | O23: 117.462 | Z23: 93.512 | AA23: 23.95 | AB23: 117.462 | AC23: 93.512 | AD23: 23.95 | AE23: 117.462 | AF23: 93.511974 | AG23: 23.70744 | AH23: 117.21941 | AK23: Cap: 07-07-2025 & 06-08-2025 & R: 04-09-2025 | AL23: 0.5 | AM23: 0
A24: 94 | B24: CTACT-PP-23-0008 | C24: Establishment of Shah Abdul Latif Bhattai Public Library Larkana (Revised on 12.02.25) (C:184.910+R:13.810) | D24: Larkano | E24: Approved 11.07.23 | F24: June-27 | G24: 198.72 | H24: 6.25 | I24: 35.015 | J24: 0 | K24: 41.265 | L24: 157.455 | M24: 30 | N24: 0 | O24: 30 | Z24: 30 | AA24: 0 | AB24: 30 | AC24: 30 | AE24: 30 | AF24: 29.993354 | AG24: 0 | AH24: 29.993354 | AK24: Cap: 07-07-2025 & 06-08-2025 & 12-09-2025 & 13-02-2026 | AL24: 0.25 | AM24: 0
A25: 95 | B25: CTACT-PP-23-0009 | C25: Establishment of Shaheed Naseem Ahmed Kharal Digital Library Gambat District Khairpur Mirs (Revised on 03.04.24) (C:184.264+R:12.951) | D25: Khairpur | E25: Approved 11.07.23 | F25: June-27 | G25: 197.215 | H25: 6.25 | I25: 0 | J25: 0 | K25: 6.25 | L25: 190.965 | M25: 25 | N25: 0 | O25: 25 | Z25: 25 | AA25: 0 | AB25: 25 | AC25: 25 | AE25: 25 | AF25: 24.991977 | AG25: 0 | AH25: 24.991977 | AK25: Cap: 07-07-2025 & 12-09-2025 & 06-01-2026 & 13-02-2026 | AL25: 0.25 | AM25: 0
A26: 96 | B26: CTACT-PP-23-0010 | C26: Establishment of Culture Center at Bajara UC Bajara Taluka Sehwan District Jamshoro (Revised on 27.03.24) (C:182.853+R:14.688) | D26: Jamshoro | E26: Approved 11.07.23 | F26: June-26 | G26: 197.541 | H26: 6.25 | I26: 38.2595 | J26: 0 | K26: 44.5095 | L26: 153.0315 | M26: 138.334 | N26: 14.688 | O26: 153.022 | Z26: 138.334 | AA26: 14.688 | AB26: 153.022 | AC26: 138.334 | AD26: 14.688 | AE26: 153.022 | AF26: 138.33151 | AG26: 0 | AH26: 138.33151 | AK26: Cap: 07-07-2025 & 06-08-2025 & R: 07-08-2025 | AL26: 0.5 | AM26: 0
A27: 97 | B27: CTACT-PP-23-0011 | C27: Establishment of Art Gallary and Art Museum at Liaquat Memorial Library, Karachi (C:159.220+R:40.780) | D27: Karachi | E27: Approved 11.07.23 | F27: June-27 | G27: 200 | H27: 12.5 | I27: 0 | J27: 0 | K27: 12.5 | L27: 187.5 | M27: 5 | N27: 0 | O27: 5 | Z27: 5 | AA27: 0 | AB27: 5 | AC27: 1.25 | AE27: 1.25 | AF27: 0 | AG27: 0 | AH27: 0 | AK27: Cap: 07-07-2025 | AL27: 0.25 | AM27: 0
A28: 98 | B28: CTACT-PP-23-0012 | C28: Establishment of Culture Center at village Qazi Noor Muhammad Leghari, Taluka Tando Marri, District Tando Allahyar (Revised on 12.02.25) (C:183.774+R:14.540) | D28: T.A.Yar | E28: Approved 11.07.23 | F28: June-26 | G28: 198.314 | H28: 18.749 | I28: 40.62525 | J28: 0 | K28: 59.37425 | L28: 138.93975 | M28: 124.4 | N28: 14.54 | O28: 138.94 | Z28: 124.4 | AA28: 14.54 | AB28: 138.94 | AC28: 124.4 | AD28: 14.54 | AE28: 138.94 | AF28: 62.186817 | AG28: 0 | AH28: 62.186817 | AJ28: Un-Satisfactory on file dated 18-03-2026 | AK28: Cap: 07-07-2025 & R: 26-08-2025 & 12-09-2025 | AL28: 0.5 | AM28: 0
A29: 99 | B29: CTACT-PP-23-0013 | C29: Establishment of Public Library at village Talti, Taluka Sehwan, District Jamshoro (C:62.163+R:7.837) | D29: Jamshoro | E29: Approved 11.07.23 | F29: June-26 | G29: 70 | H29: 13.123 | I29: 13.72 | J29: 0 | K29: 26.843 | L29: 43.157 | M29: 36.32 | N29: 6.837 | O29: 43.157 | Z29: 36.32 | AA29: 6.837 | AB29: 43.157 | AC29: 36.32 | AD29: 6.837 | AE29: 43.157 | AF29: 36.317663 | AG29: 6.835 | AH29: 43.152663 | AK29: Cap: 07-07-2025 & R: 24-07-2025 | AL29: 1 | AM29: 0
